BEGIN:VCALENDAR
VERSION:2.0
PRODID:-//Lincoln Education Association - ECPv6.15.20//NONSGML v1.0//EN
CALSCALE:GREGORIAN
METHOD:PUBLISH
X-ORIGINAL-URL:https://lincolneducationassociation.org
X-WR-CALDESC:Events for Lincoln Education Association
REFRESH-INTERVAL;VALUE=DURATION:PT1H
X-Robots-Tag:noindex
X-PUBLISHED-TTL:PT1H
BEGIN:VTIMEZONE
TZID:America/Chicago
BEGIN:DAYLIGHT
TZOFFSETFROM:-0600
TZOFFSETTO:-0500
TZNAME:CDT
DTSTART:20240310T080000
END:DAYLIGHT
BEGIN:STANDARD
TZOFFSETFROM:-0500
TZOFFSETTO:-0600
TZNAME:CST
DTSTART:20241103T070000
END:STANDARD
BEGIN:DAYLIGHT
TZOFFSETFROM:-0600
TZOFFSETTO:-0500
TZNAME:CDT
DTSTART:20250309T080000
END:DAYLIGHT
BEGIN:STANDARD
TZOFFSETFROM:-0500
TZOFFSETTO:-0600
TZNAME:CST
DTSTART:20251102T070000
END:STANDARD
BEGIN:DAYLIGHT
TZOFFSETFROM:-0600
TZOFFSETTO:-0500
TZNAME:CDT
DTSTART:20260308T080000
END:DAYLIGHT
BEGIN:STANDARD
TZOFFSETFROM:-0500
TZOFFSETTO:-0600
TZNAME:CST
DTSTART:20261101T070000
END:STANDARD
END:VTIMEZONE
BEGIN:VEVENT
DTSTART;TZID=America/Chicago:20250729T153000
DTEND;TZID=America/Chicago:20250729T173000
DTSTAMP:20260419T044635
CREATED:20250725T144812Z
LAST-MODIFIED:20250725T144812Z
UID:6642-1753803000-1753810200@lincolneducationassociation.org
SUMMARY:Come and Get It!
DESCRIPTION:
URL:https://lincolneducationassociation.org/event/come-and-get-it-2/
LOCATION:LEA
ATTACH;FMTTYPE=image/jpeg:https://lincolneducationassociation.org/wp-content/uploads/2025/06/come-and-get-it-2025.jpg
END:VEVENT
END:VCALENDAR