BEGIN:VCALENDAR
VERSION:2.0
PRODID:-//Lincoln Education Association - ECPv6.15.20//NONSGML v1.0//EN
CALSCALE:GREGORIAN
METHOD:PUBLISH
X-WR-CALNAME:Lincoln Education Association
X-ORIGINAL-URL:https://lincolneducationassociation.org
X-WR-CALDESC:Events for Lincoln Education Association
REFRESH-INTERVAL;VALUE=DURATION:PT1H
X-Robots-Tag:noindex
X-PUBLISHED-TTL:PT1H
BEGIN:VTIMEZONE
TZID:America/Chicago
BEGIN:DAYLIGHT
TZOFFSETFROM:-0600
TZOFFSETTO:-0500
TZNAME:CDT
DTSTART:20230312T080000
END:DAYLIGHT
BEGIN:STANDARD
TZOFFSETFROM:-0500
TZOFFSETTO:-0600
TZNAME:CST
DTSTART:20231105T070000
END:STANDARD
BEGIN:DAYLIGHT
TZOFFSETFROM:-0600
TZOFFSETTO:-0500
TZNAME:CDT
DTSTART:20240310T080000
END:DAYLIGHT
BEGIN:STANDARD
TZOFFSETFROM:-0500
TZOFFSETTO:-0600
TZNAME:CST
DTSTART:20241103T070000
END:STANDARD
BEGIN:DAYLIGHT
TZOFFSETFROM:-0600
TZOFFSETTO:-0500
TZNAME:CDT
DTSTART:20250309T080000
END:DAYLIGHT
BEGIN:STANDARD
TZOFFSETFROM:-0500
TZOFFSETTO:-0600
TZNAME:CST
DTSTART:20251102T070000
END:STANDARD
BEGIN:DAYLIGHT
TZOFFSETFROM:-0600
TZOFFSETTO:-0500
TZNAME:CDT
DTSTART:20260308T080000
END:DAYLIGHT
BEGIN:STANDARD
TZOFFSETFROM:-0500
TZOFFSETTO:-0600
TZNAME:CST
DTSTART:20261101T070000
END:STANDARD
END:VTIMEZONE
BEGIN:VEVENT
DTSTART;TZID=America/Chicago:20250908T161500
DTEND;TZID=America/Chicago:20250908T171500
DTSTAMP:20260423T041212
CREATED:20250814T201306Z
LAST-MODIFIED:20250814T201306Z
UID:6674-1757348100-1757351700@lincolneducationassociation.org
SUMMARY:FR Training Option 1
DESCRIPTION:
URL:https://lincolneducationassociation.org/event/fr-training-option-1/
LOCATION:LEA
END:VEVENT
BEGIN:VEVENT
DTSTART;TZID=America/Chicago:20250905T173000
DTEND;TZID=America/Chicago:20250905T193000
DTSTAMP:20260423T041212
CREATED:20250819T201127Z
LAST-MODIFIED:20250819T201248Z
UID:6678-1757093400-1757100600@lincolneducationassociation.org
SUMMARY:White Elm Brewery First Friday
DESCRIPTION:
URL:https://lincolneducationassociation.org/event/white-elm-brewery-first-friday/
LOCATION:White Elm Brewery\, 720 Van Dorn St\, Lincoln\, NE\, 68502\, United States
ATTACH;FMTTYPE=image/png:https://lincolneducationassociation.org/wp-content/uploads/2025/08/White-Elm-first-fridays-2025.png
END:VEVENT
BEGIN:VEVENT
DTSTART;TZID=America/Chicago:20250818T163000
DTEND;TZID=America/Chicago:20250818T180000
DTSTAMP:20260423T041212
CREATED:20250814T194949Z
LAST-MODIFIED:20250814T194949Z
UID:6661-1755534600-1755540000@lincolneducationassociation.org
SUMMARY:LEA Board Meeting
DESCRIPTION:
URL:https://lincolneducationassociation.org/event/lea-board-meeting-62/
LOCATION:LEA
END:VEVENT
BEGIN:VEVENT
DTSTART;TZID=America/Chicago:20250731T103000
DTEND;TZID=America/Chicago:20250731T123000
DTSTAMP:20260423T041212
CREATED:20250725T145014Z
LAST-MODIFIED:20250725T145014Z
UID:6644-1753957800-1753965000@lincolneducationassociation.org
SUMMARY:New Hire Lunch with LPS
DESCRIPTION:
URL:https://lincolneducationassociation.org/event/new-hire-lunch-with-lps/
LOCATION:Lincoln Southwest High School\, 7001 South 14th St\, lincoln\, ne\, 68512
END:VEVENT
BEGIN:VEVENT
DTSTART;TZID=America/Chicago:20250730T153000
DTEND;TZID=America/Chicago:20250730T173000
DTSTAMP:20260423T041212
CREATED:20250725T144849Z
LAST-MODIFIED:20250725T144849Z
UID:6643-1753889400-1753896600@lincolneducationassociation.org
SUMMARY:Come and Get It!
DESCRIPTION:
URL:https://lincolneducationassociation.org/event/come-and-get-it-3/
LOCATION:LEA
ATTACH;FMTTYPE=image/jpeg:https://lincolneducationassociation.org/wp-content/uploads/2025/06/come-and-get-it-2025.jpg
END:VEVENT
BEGIN:VEVENT
DTSTART;TZID=America/Chicago:20250729T153000
DTEND;TZID=America/Chicago:20250729T173000
DTSTAMP:20260423T041212
CREATED:20250725T144812Z
LAST-MODIFIED:20250725T144812Z
UID:6642-1753803000-1753810200@lincolneducationassociation.org
SUMMARY:Come and Get It!
DESCRIPTION:
URL:https://lincolneducationassociation.org/event/come-and-get-it-2/
LOCATION:LEA
ATTACH;FMTTYPE=image/jpeg:https://lincolneducationassociation.org/wp-content/uploads/2025/06/come-and-get-it-2025.jpg
END:VEVENT
BEGIN:VEVENT
DTSTART;TZID=America/Chicago:20250618T130000
DTEND;TZID=America/Chicago:20250618T140000
DTSTAMP:20260423T041212
CREATED:20250814T195227Z
LAST-MODIFIED:20250814T195227Z
UID:6663-1750251600-1750255200@lincolneducationassociation.org
SUMMARY:LEA Board Meeting
DESCRIPTION:
URL:https://lincolneducationassociation.org/event/lea-board-meeting-64/
LOCATION:LEA
END:VEVENT
BEGIN:VEVENT
DTSTART;TZID=America/Chicago:20250512T163000
DTEND;TZID=America/Chicago:20250512T180000
DTSTAMP:20260423T041212
CREATED:20240808T154641Z
LAST-MODIFIED:20240808T154641Z
UID:6347-1747067400-1747072800@lincolneducationassociation.org
SUMMARY:LEA Board
DESCRIPTION:
URL:https://lincolneducationassociation.org/event/lea-board-75/
LOCATION:LEA
END:VEVENT
BEGIN:VEVENT
DTSTART;TZID=America/Chicago:20250508T170000
DTEND;TZID=America/Chicago:20250508T190000
DTSTAMP:20260423T041212
CREATED:20250505T164122Z
LAST-MODIFIED:20250505T164122Z
UID:6592-1746723600-1746730800@lincolneducationassociation.org
SUMMARY:Retirement and Awards Dinner
DESCRIPTION:
URL:https://lincolneducationassociation.org/event/retirement-and-awards-dinner/
LOCATION:Havelock Social Hall
END:VEVENT
BEGIN:VEVENT
DTSTART;TZID=America/Chicago:20250407T163000
DTEND;TZID=America/Chicago:20250407T180000
DTSTAMP:20260423T041212
CREATED:20240808T154616Z
LAST-MODIFIED:20240808T154616Z
UID:6346-1744043400-1744048800@lincolneducationassociation.org
SUMMARY:LEA Board
DESCRIPTION:
URL:https://lincolneducationassociation.org/event/lea-board-74/
LOCATION:LEA
END:VEVENT
BEGIN:VEVENT
DTSTART;TZID=America/Chicago:20250320T161500
DTEND;TZID=America/Chicago:20250320T173000
DTSTAMP:20260423T041212
CREATED:20240808T154123Z
LAST-MODIFIED:20240808T154123Z
UID:6336-1742487300-1742491800@lincolneducationassociation.org
SUMMARY:FR Council
DESCRIPTION:Zoom or in person at Bryan Comm.
URL:https://lincolneducationassociation.org/event/fr-council-63/
LOCATION:Bryan Comm Gym or Zoom\, 300 S 48th St\, lincoln\, NE\, 68510\, United States
END:VEVENT
BEGIN:VEVENT
DTSTART;TZID=America/Chicago:20250303T163000
DTEND;TZID=America/Chicago:20250303T180000
DTSTAMP:20260423T041212
CREATED:20240808T154548Z
LAST-MODIFIED:20240808T154548Z
UID:6345-1741019400-1741024800@lincolneducationassociation.org
SUMMARY:LEA Board
DESCRIPTION:
URL:https://lincolneducationassociation.org/event/lea-board-73/
LOCATION:LEA
END:VEVENT
BEGIN:VEVENT
DTSTART;TZID=America/Chicago:20250220T161500
DTEND;TZID=America/Chicago:20250220T173000
DTSTAMP:20260423T041212
CREATED:20240808T151946Z
LAST-MODIFIED:20240808T151946Z
UID:6335-1740068100-1740072600@lincolneducationassociation.org
SUMMARY:FR Council
DESCRIPTION:Zoom or in person at Bryan Comm.
URL:https://lincolneducationassociation.org/event/fr-council-62/
LOCATION:Bryan Comm Gym or Zoom\, 300 S 48th St\, lincoln\, NE\, 68510\, United States
END:VEVENT
BEGIN:VEVENT
DTSTART;TZID=America/Chicago:20250210T163000
DTEND;TZID=America/Chicago:20250210T180000
DTSTAMP:20260423T041212
CREATED:20240808T154521Z
LAST-MODIFIED:20240808T154521Z
UID:6344-1739205000-1739210400@lincolneducationassociation.org
SUMMARY:LEA Board
DESCRIPTION:
URL:https://lincolneducationassociation.org/event/lea-board-72/
LOCATION:LEA
END:VEVENT
BEGIN:VEVENT
DTSTART;TZID=America/Chicago:20250123T161500
DTEND;TZID=America/Chicago:20250123T173000
DTSTAMP:20260423T041212
CREATED:20240808T151723Z
LAST-MODIFIED:20240808T151723Z
UID:6334-1737648900-1737653400@lincolneducationassociation.org
SUMMARY:FR Council
DESCRIPTION:Zoom or in person at Bryan Comm.
URL:https://lincolneducationassociation.org/event/fr-council-61/
LOCATION:Bryan Comm Gym or Zoom\, 300 S 48th St\, lincoln\, NE\, 68510\, United States
END:VEVENT
BEGIN:VEVENT
DTSTART;TZID=America/Chicago:20250113T163000
DTEND;TZID=America/Chicago:20250113T180000
DTSTAMP:20260423T041212
CREATED:20240808T154458Z
LAST-MODIFIED:20240808T154458Z
UID:6343-1736785800-1736791200@lincolneducationassociation.org
SUMMARY:LEA Board
DESCRIPTION:
URL:https://lincolneducationassociation.org/event/lea-board-71/
LOCATION:LEA
END:VEVENT
BEGIN:VEVENT
DTSTART;TZID=America/Chicago:20241209T163000
DTEND;TZID=America/Chicago:20241209T180000
DTSTAMP:20260423T041212
CREATED:20240808T154436Z
LAST-MODIFIED:20240808T154436Z
UID:6342-1733761800-1733767200@lincolneducationassociation.org
SUMMARY:LEA Board
DESCRIPTION:
URL:https://lincolneducationassociation.org/event/lea-board-70/
LOCATION:LEA
END:VEVENT
BEGIN:VEVENT
DTSTART;TZID=America/Chicago:20241121T161500
DTEND;TZID=America/Chicago:20241121T173000
DTSTAMP:20260423T041212
CREATED:20240808T151548Z
LAST-MODIFIED:20240808T151548Z
UID:6332-1732205700-1732210200@lincolneducationassociation.org
SUMMARY:FR Council
DESCRIPTION:Zoom or in person at Bryan Comm.
URL:https://lincolneducationassociation.org/event/fr-council-60/
LOCATION:Bryan Comm Gym or Zoom\, 300 S 48th St\, lincoln\, NE\, 68510\, United States
END:VEVENT
BEGIN:VEVENT
DTSTART;TZID=America/Chicago:20241111T163000
DTEND;TZID=America/Chicago:20241111T180000
DTSTAMP:20260423T041212
CREATED:20240808T154417Z
LAST-MODIFIED:20240808T154417Z
UID:6341-1731342600-1731348000@lincolneducationassociation.org
SUMMARY:LEA Board
DESCRIPTION:
URL:https://lincolneducationassociation.org/event/lea-board-69/
LOCATION:LEA
END:VEVENT
BEGIN:VEVENT
DTSTART;TZID=America/Chicago:20241017T161500
DTEND;TZID=America/Chicago:20241017T170000
DTSTAMP:20260423T041212
CREATED:20240808T151513Z
LAST-MODIFIED:20240808T151513Z
UID:6331-1729181700-1729184400@lincolneducationassociation.org
SUMMARY:FR Council
DESCRIPTION:Zoom or in person at Bryan Comm.
URL:https://lincolneducationassociation.org/event/fr-council-59/
LOCATION:Bryan Comm Gym or Zoom\, 300 S 48th St\, lincoln\, NE\, 68510\, United States
END:VEVENT
BEGIN:VEVENT
DTSTART;TZID=America/Chicago:20241007T163000
DTEND;TZID=America/Chicago:20241007T180000
DTSTAMP:20260423T041212
CREATED:20240808T154355Z
LAST-MODIFIED:20240808T154355Z
UID:6340-1728318600-1728324000@lincolneducationassociation.org
SUMMARY:LEA Board
DESCRIPTION:
URL:https://lincolneducationassociation.org/event/lea-board-68/
LOCATION:LEA
END:VEVENT
BEGIN:VEVENT
DTSTART;TZID=America/Chicago:20240924T163000
DTEND;TZID=America/Chicago:20240924T180000
DTSTAMP:20260423T041212
CREATED:20240909T155327Z
LAST-MODIFIED:20240909T155327Z
UID:6363-1727195400-1727200800@lincolneducationassociation.org
SUMMARY:LEA-PAC Board Meeting
DESCRIPTION:
URL:https://lincolneducationassociation.org/event/lea-pac-board-meeting/
LOCATION:LEA
END:VEVENT
BEGIN:VEVENT
DTSTART;TZID=America/Chicago:20240919T161500
DTEND;TZID=America/Chicago:20240919T173000
DTSTAMP:20260423T041212
CREATED:20240808T151426Z
LAST-MODIFIED:20240808T151426Z
UID:6329-1726762500-1726767000@lincolneducationassociation.org
SUMMARY:FR Council
DESCRIPTION:Zoom or in person at Bryan Comm.
URL:https://lincolneducationassociation.org/event/fr-council-55/
LOCATION:Bryan Comm Gym or Zoom\, 300 S 48th St\, lincoln\, NE\, 68510\, United States
END:VEVENT
BEGIN:VEVENT
DTSTART;TZID=America/Chicago:20240909T163000
DTEND;TZID=America/Chicago:20240909T180000
DTSTAMP:20260423T041212
CREATED:20240808T154331Z
LAST-MODIFIED:20240808T154331Z
UID:6339-1725899400-1725904800@lincolneducationassociation.org
SUMMARY:LEA Board
DESCRIPTION:
URL:https://lincolneducationassociation.org/event/lea-board-67/
LOCATION:LEA
END:VEVENT
BEGIN:VEVENT
DTSTART;TZID=America/Chicago:20240819T163000
DTEND;TZID=America/Chicago:20240819T180000
DTSTAMP:20260423T041212
CREATED:20240808T154306Z
LAST-MODIFIED:20240808T154306Z
UID:6338-1724085000-1724090400@lincolneducationassociation.org
SUMMARY:LEA Board
DESCRIPTION:
URL:https://lincolneducationassociation.org/event/lea-board-55/
LOCATION:LEA
END:VEVENT
BEGIN:VEVENT
DTSTART;TZID=America/Chicago:20240805T161500
DTEND;TZID=America/Chicago:20240805T173000
DTSTAMP:20260423T041212
CREATED:20240808T151227Z
LAST-MODIFIED:20240808T151227Z
UID:6328-1722874500-1722879000@lincolneducationassociation.org
SUMMARY:FR Training
DESCRIPTION:
URL:https://lincolneducationassociation.org/event/fr-training-6/
LOCATION:Zoom
END:VEVENT
BEGIN:VEVENT
DTSTART;TZID=America/Chicago:20240731T153000
DTEND;TZID=America/Chicago:20240731T173000
DTSTAMP:20260423T041212
CREATED:20240422T152137Z
LAST-MODIFIED:20240422T152137Z
UID:6277-1722439800-1722447000@lincolneducationassociation.org
SUMMARY:LEA-R Come and Get it
DESCRIPTION:new LPS hires
URL:https://lincolneducationassociation.org/event/lea-r-come-and-get-it-2/
LOCATION:LEA
END:VEVENT
BEGIN:VEVENT
DTSTART;TZID=America/Chicago:20240730T153000
DTEND;TZID=America/Chicago:20240730T183000
DTSTAMP:20260423T041212
CREATED:20240422T152105Z
LAST-MODIFIED:20240422T152105Z
UID:6275-1722353400-1722364200@lincolneducationassociation.org
SUMMARY:LEA-R Come and Get it
DESCRIPTION:for new LPS hires
URL:https://lincolneducationassociation.org/event/lea-r-come-and-get-it/
LOCATION:LEA
END:VEVENT
BEGIN:VEVENT
DTSTART;TZID=America/Chicago:20240513T163000
DTEND;TZID=America/Chicago:20240513T174500
DTSTAMP:20260423T041212
CREATED:20230915T142024Z
LAST-MODIFIED:20230915T142024Z
UID:5949-1715617800-1715622300@lincolneducationassociation.org
SUMMARY:LEA Board Meeting
DESCRIPTION:
URL:https://lincolneducationassociation.org/event/lea-board-meeting-61/
LOCATION:LEA
END:VEVENT
BEGIN:VEVENT
DTSTART;TZID=America/Chicago:20240509T170000
DTEND;TZID=America/Chicago:20240509T190000
DTSTAMP:20260423T041212
CREATED:20230915T143728Z
LAST-MODIFIED:20230915T143728Z
UID:5969-1715274000-1715281200@lincolneducationassociation.org
SUMMARY:LEA FR & Member Awards & Retirement Celebration
DESCRIPTION:
URL:https://lincolneducationassociation.org/event/lea-fr-member-awards-retirement-celebration/
LOCATION:Havelock Social Hall
END:VEVENT
END:VCALENDAR