BEGIN:VCALENDAR
VERSION:2.0
PRODID:-//Lincoln Education Association - ECPv6.15.20//NONSGML v1.0//EN
CALSCALE:GREGORIAN
METHOD:PUBLISH
X-WR-CALNAME:Lincoln Education Association
X-ORIGINAL-URL:https://lincolneducationassociation.org
X-WR-CALDESC:Events for Lincoln Education Association
REFRESH-INTERVAL;VALUE=DURATION:PT1H
X-Robots-Tag:noindex
X-PUBLISHED-TTL:PT1H
BEGIN:VTIMEZONE
TZID:America/Chicago
BEGIN:DAYLIGHT
TZOFFSETFROM:-0600
TZOFFSETTO:-0500
TZNAME:CDT
DTSTART:20190310T080000
END:DAYLIGHT
BEGIN:STANDARD
TZOFFSETFROM:-0500
TZOFFSETTO:-0600
TZNAME:CST
DTSTART:20191103T070000
END:STANDARD
BEGIN:DAYLIGHT
TZOFFSETFROM:-0600
TZOFFSETTO:-0500
TZNAME:CDT
DTSTART:20200308T080000
END:DAYLIGHT
BEGIN:STANDARD
TZOFFSETFROM:-0500
TZOFFSETTO:-0600
TZNAME:CST
DTSTART:20201101T070000
END:STANDARD
BEGIN:DAYLIGHT
TZOFFSETFROM:-0600
TZOFFSETTO:-0500
TZNAME:CDT
DTSTART:20210314T080000
END:DAYLIGHT
BEGIN:STANDARD
TZOFFSETFROM:-0500
TZOFFSETTO:-0600
TZNAME:CST
DTSTART:20211107T070000
END:STANDARD
BEGIN:DAYLIGHT
TZOFFSETFROM:-0600
TZOFFSETTO:-0500
TZNAME:CDT
DTSTART:20220313T080000
END:DAYLIGHT
BEGIN:STANDARD
TZOFFSETFROM:-0500
TZOFFSETTO:-0600
TZNAME:CST
DTSTART:20221106T070000
END:STANDARD
END:VTIMEZONE
BEGIN:VEVENT
DTSTART;TZID=America/Chicago:20210517T163000
DTEND;TZID=America/Chicago:20210517T183000
DTSTAMP:20260425T085152
CREATED:20200618T195554Z
LAST-MODIFIED:20200618T195554Z
UID:4618-1621269000-1621276200@lincolneducationassociation.org
SUMMARY:LEA Board Meeting
DESCRIPTION:
URL:https://lincolneducationassociation.org/event/lea-board-meeting-26/
LOCATION:LEA
END:VEVENT
BEGIN:VEVENT
DTSTART;TZID=America/Chicago:20210513T170000
DTEND;TZID=America/Chicago:20210513T200000
DTSTAMP:20260425T085152
CREATED:20200618T203754Z
LAST-MODIFIED:20200618T203754Z
UID:4636-1620925200-1620936000@lincolneducationassociation.org
SUMMARY:Retirement Dinner
DESCRIPTION:
URL:https://lincolneducationassociation.org/event/retirement-dinner-5/
LOCATION:TBD
END:VEVENT
BEGIN:VEVENT
DTSTART;TZID=America/Chicago:20210503T163000
DTEND;TZID=America/Chicago:20210503T183000
DTSTAMP:20260425T085152
CREATED:20200618T195504Z
LAST-MODIFIED:20200618T195504Z
UID:4616-1620059400-1620066600@lincolneducationassociation.org
SUMMARY:LEA Board Meeting
DESCRIPTION:
URL:https://lincolneducationassociation.org/event/lea-board-meeting-25/
LOCATION:LEA
END:VEVENT
BEGIN:VEVENT
DTSTART;TZID=America/Chicago:20210419T163000
DTEND;TZID=America/Chicago:20210419T183000
DTSTAMP:20260425T085152
CREATED:20200618T195422Z
LAST-MODIFIED:20200618T195422Z
UID:4614-1618849800-1618857000@lincolneducationassociation.org
SUMMARY:LEA Board Meeting
DESCRIPTION:
URL:https://lincolneducationassociation.org/event/lea-board-meeting-24/
LOCATION:LEA
END:VEVENT
BEGIN:VEVENT
DTSTART;TZID=America/Chicago:20210415T161500
DTEND;TZID=America/Chicago:20210415T170000
DTSTAMP:20260425T085152
CREATED:20200618T203714Z
LAST-MODIFIED:20200618T203714Z
UID:4634-1618503300-1618506000@lincolneducationassociation.org
SUMMARY:FR Council
DESCRIPTION:
URL:https://lincolneducationassociation.org/event/fr-council-39/
LOCATION:bryan community
END:VEVENT
BEGIN:VEVENT
DTSTART;TZID=America/Chicago:20210405T163000
DTEND;TZID=America/Chicago:20210405T183000
DTSTAMP:20260425T085152
CREATED:20200618T195353Z
LAST-MODIFIED:20200618T195353Z
UID:4612-1617640200-1617647400@lincolneducationassociation.org
SUMMARY:LEA Board Meeting
DESCRIPTION:
URL:https://lincolneducationassociation.org/event/lea-board-meeting-23/
LOCATION:LEA
END:VEVENT
BEGIN:VEVENT
DTSTART;TZID=America/Chicago:20210318T161500
DTEND;TZID=America/Chicago:20210318T170000
DTSTAMP:20260425T085152
CREATED:20200618T203645Z
LAST-MODIFIED:20200618T203645Z
UID:4632-1616084100-1616086800@lincolneducationassociation.org
SUMMARY:FR Council
DESCRIPTION:
URL:https://lincolneducationassociation.org/event/fr-council-38/
LOCATION:bryan community
END:VEVENT
BEGIN:VEVENT
DTSTART;TZID=America/Chicago:20210315T163000
DTEND;TZID=America/Chicago:20210315T183000
DTSTAMP:20260425T085152
CREATED:20200618T195321Z
LAST-MODIFIED:20200618T195321Z
UID:4610-1615825800-1615833000@lincolneducationassociation.org
SUMMARY:LEA Board Meeting
DESCRIPTION:
URL:https://lincolneducationassociation.org/event/lea-board-meeting-22/
LOCATION:LEA
END:VEVENT
BEGIN:VEVENT
DTSTART;TZID=America/Chicago:20210301T163000
DTEND;TZID=America/Chicago:20210301T183000
DTSTAMP:20260425T085152
CREATED:20200618T195132Z
LAST-MODIFIED:20200618T195132Z
UID:4608-1614616200-1614623400@lincolneducationassociation.org
SUMMARY:LEA Board Meeting
DESCRIPTION:
URL:https://lincolneducationassociation.org/event/lea-board-meeting-21/
LOCATION:LEA
END:VEVENT
BEGIN:VEVENT
DTSTART;TZID=America/Chicago:20210218T161500
DTEND;TZID=America/Chicago:20210218T170000
DTSTAMP:20260425T085152
CREATED:20200618T203616Z
LAST-MODIFIED:20200618T203616Z
UID:4630-1613664900-1613667600@lincolneducationassociation.org
SUMMARY:FR Council
DESCRIPTION:
URL:https://lincolneducationassociation.org/event/fr-council-37/
LOCATION:bryan community
END:VEVENT
BEGIN:VEVENT
DTSTART;TZID=America/Chicago:20210215T163000
DTEND;TZID=America/Chicago:20210215T183000
DTSTAMP:20260425T085152
CREATED:20200618T194946Z
LAST-MODIFIED:20200618T194946Z
UID:4606-1613406600-1613413800@lincolneducationassociation.org
SUMMARY:LEA Board Meeting
DESCRIPTION:
URL:https://lincolneducationassociation.org/event/lea-board-meeting-20/
LOCATION:LEA
END:VEVENT
BEGIN:VEVENT
DTSTART;TZID=America/Chicago:20210201T173000
DTEND;TZID=America/Chicago:20210201T183000
DTSTAMP:20260425T085152
CREATED:20200618T194910Z
LAST-MODIFIED:20200618T194910Z
UID:4604-1612200600-1612204200@lincolneducationassociation.org
SUMMARY:LEA Board Meeting
DESCRIPTION:
URL:https://lincolneducationassociation.org/event/lea-board-meeting-19/
LOCATION:LEA
END:VEVENT
BEGIN:VEVENT
DTSTART;TZID=America/Chicago:20210121T161500
DTEND;TZID=America/Chicago:20210121T170000
DTSTAMP:20260425T085152
CREATED:20200618T203549Z
LAST-MODIFIED:20200618T203549Z
UID:4628-1611245700-1611248400@lincolneducationassociation.org
SUMMARY:FR Council
DESCRIPTION:
URL:https://lincolneducationassociation.org/event/fr-council-36/
LOCATION:bryan community
END:VEVENT
BEGIN:VEVENT
DTSTART;TZID=America/Chicago:20210111T173000
DTEND;TZID=America/Chicago:20210111T183000
DTSTAMP:20260425T085152
CREATED:20200618T194733Z
LAST-MODIFIED:20200618T194733Z
UID:4602-1610386200-1610389800@lincolneducationassociation.org
SUMMARY:LEA Board Meeting
DESCRIPTION:
URL:https://lincolneducationassociation.org/event/lea-board-meeting-18/
LOCATION:LEA
END:VEVENT
BEGIN:VEVENT
DTSTART;TZID=America/Chicago:20201221T163000
DTEND;TZID=America/Chicago:20201221T183000
DTSTAMP:20260425T085152
CREATED:20200618T185548Z
LAST-MODIFIED:20200618T185548Z
UID:4600-1608568200-1608575400@lincolneducationassociation.org
SUMMARY:LEA Board Meeting
DESCRIPTION:
URL:https://lincolneducationassociation.org/event/lea-board-meeting-17/
LOCATION:LEA
END:VEVENT
BEGIN:VEVENT
DTSTART;TZID=America/Chicago:20201217T161500
DTEND;TZID=America/Chicago:20201217T170000
DTSTAMP:20260425T085152
CREATED:20200618T203521Z
LAST-MODIFIED:20200618T203521Z
UID:4626-1608221700-1608224400@lincolneducationassociation.org
SUMMARY:FR Council
DESCRIPTION:
URL:https://lincolneducationassociation.org/event/fr-council-35/
LOCATION:bryan community
END:VEVENT
BEGIN:VEVENT
DTSTART;TZID=America/Chicago:20201207T163000
DTEND;TZID=America/Chicago:20201207T183000
DTSTAMP:20260425T085152
CREATED:20200618T185513Z
LAST-MODIFIED:20200618T185513Z
UID:4598-1607358600-1607365800@lincolneducationassociation.org
SUMMARY:LEA Board Meeting
DESCRIPTION:
URL:https://lincolneducationassociation.org/event/lea-board-meeting-16/
LOCATION:LEA
END:VEVENT
BEGIN:VEVENT
DTSTART;TZID=America/Chicago:20201119T161500
DTEND;TZID=America/Chicago:20201119T170000
DTSTAMP:20260425T085152
CREATED:20200618T203450Z
LAST-MODIFIED:20200618T203450Z
UID:4624-1605802500-1605805200@lincolneducationassociation.org
SUMMARY:FR Council
DESCRIPTION:
URL:https://lincolneducationassociation.org/event/fr-council-34/
LOCATION:bryan community
END:VEVENT
BEGIN:VEVENT
DTSTART;TZID=America/Chicago:20201116T163000
DTEND;TZID=America/Chicago:20201116T183000
DTSTAMP:20260425T085152
CREATED:20200618T180628Z
LAST-MODIFIED:20200618T180628Z
UID:4596-1605544200-1605551400@lincolneducationassociation.org
SUMMARY:LEA Board Meeting
DESCRIPTION:
URL:https://lincolneducationassociation.org/event/lea-board-meeting-15/
LOCATION:LEA
END:VEVENT
BEGIN:VEVENT
DTSTART;TZID=America/Chicago:20201102T163000
DTEND;TZID=America/Chicago:20201102T183000
DTSTAMP:20260425T085152
CREATED:20200618T180554Z
LAST-MODIFIED:20200618T180554Z
UID:4594-1604334600-1604341800@lincolneducationassociation.org
SUMMARY:LEA Board Meeting
DESCRIPTION:
URL:https://lincolneducationassociation.org/event/lea-board-meeting-14/
LOCATION:LEA
END:VEVENT
BEGIN:VEVENT
DTSTART;TZID=America/Chicago:20201022T161500
DTEND;TZID=America/Chicago:20201022T170000
DTSTAMP:20260425T085152
CREATED:20200618T203419Z
LAST-MODIFIED:20200618T203419Z
UID:4622-1603383300-1603386000@lincolneducationassociation.org
SUMMARY:FR Council
DESCRIPTION:
URL:https://lincolneducationassociation.org/event/fr-council-32/
LOCATION:bryan community
END:VEVENT
BEGIN:VEVENT
DTSTART;TZID=America/Chicago:20201019T163000
DTEND;TZID=America/Chicago:20201019T183000
DTSTAMP:20260425T085152
CREATED:20200618T180522Z
LAST-MODIFIED:20200618T180522Z
UID:4592-1603125000-1603132200@lincolneducationassociation.org
SUMMARY:LEA Board Meeting
DESCRIPTION:
URL:https://lincolneducationassociation.org/event/lea-board-meeting-13/
LOCATION:LEA
END:VEVENT
BEGIN:VEVENT
DTSTART;TZID=America/Chicago:20201005T163000
DTEND;TZID=America/Chicago:20201005T183000
DTSTAMP:20260425T085152
CREATED:20200618T180452Z
LAST-MODIFIED:20200618T180452Z
UID:4590-1601915400-1601922600@lincolneducationassociation.org
SUMMARY:LEA Board Meeting
DESCRIPTION:
URL:https://lincolneducationassociation.org/event/lea-board-meeting-12/
LOCATION:LEA
END:VEVENT
BEGIN:VEVENT
DTSTART;TZID=America/Chicago:20200921T163000
DTEND;TZID=America/Chicago:20200921T183000
DTSTAMP:20260425T085152
CREATED:20200618T160203Z
LAST-MODIFIED:20200618T160203Z
UID:4588-1600705800-1600713000@lincolneducationassociation.org
SUMMARY:LEA Board Meeting
DESCRIPTION:
URL:https://lincolneducationassociation.org/event/lea-board-meeting-11/
LOCATION:LEA
END:VEVENT
BEGIN:VEVENT
DTSTART;TZID=America/Chicago:20200917T161500
DTEND;TZID=America/Chicago:20200917T180000
DTSTAMP:20260425T085152
CREATED:20200618T200456Z
LAST-MODIFIED:20200618T200456Z
UID:4620-1600359300-1600365600@lincolneducationassociation.org
SUMMARY:FR Council
DESCRIPTION:
URL:https://lincolneducationassociation.org/event/fr-council-29/
LOCATION:bryan community
END:VEVENT
BEGIN:VEVENT
DTSTART;TZID=America/Chicago:20200910T170000
DTEND;TZID=America/Chicago:20200910T190000
DTSTAMP:20260425T085152
CREATED:20190612T190051Z
LAST-MODIFIED:20200501T194536Z
UID:4236-1599757200-1599764400@lincolneducationassociation.org
SUMMARY:Retirement Dinner
DESCRIPTION:
URL:https://lincolneducationassociation.org/event/retirement-dinner-4/
LOCATION:Havelock Social Hall
END:VEVENT
BEGIN:VEVENT
DTSTART;TZID=America/Chicago:20200821T160000
DTEND;TZID=America/Chicago:20200821T173000
DTSTAMP:20260425T085152
CREATED:20200618T204034Z
LAST-MODIFIED:20200811T193459Z
UID:4640-1598025600-1598031000@lincolneducationassociation.org
SUMMARY:FR Material Pick Up
DESCRIPTION:
URL:https://lincolneducationassociation.org/event/fr-material-pick-up/
LOCATION:LEA
END:VEVENT
BEGIN:VEVENT
DTSTART;TZID=America/Chicago:20200817T163000
DTEND;TZID=America/Chicago:20200817T183000
DTSTAMP:20260425T085152
CREATED:20200618T143810Z
LAST-MODIFIED:20200618T143810Z
UID:4586-1597681800-1597689000@lincolneducationassociation.org
SUMMARY:LEA Board Meeting
DESCRIPTION:
URL:https://lincolneducationassociation.org/event/lea-board-meeting-10/
LOCATION:LEA
END:VEVENT
BEGIN:VEVENT
DTSTART;TZID=America/Chicago:20200804T080000
DTEND;TZID=America/Chicago:20200804T170000
DTSTAMP:20260425T085152
CREATED:20200618T203951Z
LAST-MODIFIED:20200618T203951Z
UID:4638-1596528000-1596560400@lincolneducationassociation.org
SUMMARY:FR Training
DESCRIPTION:
URL:https://lincolneducationassociation.org/event/fr-training-4/
LOCATION:TBD
END:VEVENT
BEGIN:VEVENT
DTSTART;TZID=America/Chicago:20200803T080000
DTEND;TZID=America/Chicago:20200803T170000
DTSTAMP:20260425T085152
CREATED:20200618T143053Z
LAST-MODIFIED:20200618T143053Z
UID:4584-1596441600-1596474000@lincolneducationassociation.org
SUMMARY:New Teacher Event
DESCRIPTION:
URL:https://lincolneducationassociation.org/event/new-teacher-event/
LOCATION:Marriott Cornhusker Hotel
END:VEVENT
END:VCALENDAR