BEGIN:VCALENDAR
VERSION:2.0
PRODID:-//Lincoln Education Association - ECPv6.15.20//NONSGML v1.0//EN
CALSCALE:GREGORIAN
METHOD:PUBLISH
X-WR-CALNAME:Lincoln Education Association
X-ORIGINAL-URL:https://lincolneducationassociation.org
X-WR-CALDESC:Events for Lincoln Education Association
REFRESH-INTERVAL;VALUE=DURATION:PT1H
X-Robots-Tag:noindex
X-PUBLISHED-TTL:PT1H
BEGIN:VTIMEZONE
TZID:America/Chicago
BEGIN:DAYLIGHT
TZOFFSETFROM:-0600
TZOFFSETTO:-0500
TZNAME:CDT
DTSTART:20160313T080000
END:DAYLIGHT
BEGIN:STANDARD
TZOFFSETFROM:-0500
TZOFFSETTO:-0600
TZNAME:CST
DTSTART:20161106T070000
END:STANDARD
BEGIN:DAYLIGHT
TZOFFSETFROM:-0600
TZOFFSETTO:-0500
TZNAME:CDT
DTSTART:20170312T080000
END:DAYLIGHT
BEGIN:STANDARD
TZOFFSETFROM:-0500
TZOFFSETTO:-0600
TZNAME:CST
DTSTART:20171105T070000
END:STANDARD
BEGIN:DAYLIGHT
TZOFFSETFROM:-0600
TZOFFSETTO:-0500
TZNAME:CDT
DTSTART:20180311T080000
END:DAYLIGHT
BEGIN:STANDARD
TZOFFSETFROM:-0500
TZOFFSETTO:-0600
TZNAME:CST
DTSTART:20181104T070000
END:STANDARD
BEGIN:DAYLIGHT
TZOFFSETFROM:-0600
TZOFFSETTO:-0500
TZNAME:CDT
DTSTART:20190310T080000
END:DAYLIGHT
BEGIN:STANDARD
TZOFFSETFROM:-0500
TZOFFSETTO:-0600
TZNAME:CST
DTSTART:20191103T070000
END:STANDARD
END:VTIMEZONE
BEGIN:VEVENT
DTSTART;TZID=America/Chicago:20180913T093000
DTEND;TZID=America/Chicago:20180913T110000
DTSTAMP:20260423T073859
CREATED:20180906T184337Z
LAST-MODIFIED:20180906T184337Z
UID:3762-1536831000-1536836400@lincolneducationassociation.org
SUMMARY:LEA-R Board Meeting
DESCRIPTION:
URL:https://lincolneducationassociation.org/event/lea-r-board-meeting/
LOCATION:LEA
END:VEVENT
BEGIN:VEVENT
DTSTART;TZID=America/Chicago:20180731T160000
DTEND;TZID=America/Chicago:20180731T180000
DTSTAMP:20260423T073859
CREATED:20180718T151647Z
LAST-MODIFIED:20180718T151647Z
UID:3718-1533052800-1533060000@lincolneducationassociation.org
SUMMARY:FR Training #3
DESCRIPTION:
URL:https://lincolneducationassociation.org/event/fr-training-3/
LOCATION:LEA
END:VEVENT
BEGIN:VEVENT
DTSTART;TZID=America/Chicago:20180726T140000
DTEND;TZID=America/Chicago:20180726T160000
DTSTAMP:20260423T073859
CREATED:20180718T151618Z
LAST-MODIFIED:20180718T151618Z
UID:3716-1532613600-1532620800@lincolneducationassociation.org
SUMMARY:FR Training #2
DESCRIPTION:
URL:https://lincolneducationassociation.org/event/fr-training-2-2/
LOCATION:LEA
END:VEVENT
BEGIN:VEVENT
DTSTART;TZID=America/Chicago:20180724T130000
DTEND;TZID=America/Chicago:20180724T150000
DTSTAMP:20260423T073859
CREATED:20180718T151543Z
LAST-MODIFIED:20180718T151543Z
UID:3713-1532437200-1532444400@lincolneducationassociation.org
SUMMARY:FR Training #1
DESCRIPTION:
URL:https://lincolneducationassociation.org/event/fr-training-1/
LOCATION:Clifton Learning Center
END:VEVENT
BEGIN:VEVENT
DTSTART;TZID=America/Chicago:20180723T100000
DTEND;TZID=America/Chicago:20180723T160000
DTSTAMP:20260423T073859
CREATED:20170920T165908Z
LAST-MODIFIED:20170920T165908Z
UID:3356-1532340000-1532361600@lincolneducationassociation.org
SUMMARY:NSEA Capitol District
DESCRIPTION:
URL:https://lincolneducationassociation.org/event/nsea-capitol-district-4/
LOCATION:LEA
END:VEVENT
BEGIN:VEVENT
DTSTART;VALUE=DATE:20180531
DTEND;VALUE=DATE:20180601
DTSTAMP:20260423T073859
CREATED:20180523T163515Z
LAST-MODIFIED:20180523T163557Z
UID:3671-1527724800-1527811199@lincolneducationassociation.org
SUMMARY:Give to Lincoln Day
DESCRIPTION:Give To Lincoln Day is your chance to make a real impact on Lincoln’s quality of life. We encourage everyone to join us for a record-setting day of giving on May 31st from 12:00am to 11:59 pm. Together\, we have the power to support Lincoln’s nonprofit organizations and improve lives. Every donation you make on May 31st helps your favorite charities even more because they will also receive a proportional share of our $400\,000 challenge match fund. \nOur website giving page link: https://givetolincoln.com/nonprofits/harvest-of-books
URL:https://lincolneducationassociation.org/event/give-to-lincoln-day/
END:VEVENT
BEGIN:VEVENT
DTSTART;TZID=America/Chicago:20180521T163000
DTEND;TZID=America/Chicago:20180521T183000
DTSTAMP:20260423T073859
CREATED:20170622T205244Z
LAST-MODIFIED:20170622T205244Z
UID:3224-1526920200-1526927400@lincolneducationassociation.org
SUMMARY:LEA Board
DESCRIPTION:
URL:https://lincolneducationassociation.org/event/lea-board-35/
LOCATION:LEA
END:VEVENT
BEGIN:VEVENT
DTSTART;TZID=America/Chicago:20180517T160000
DTEND;TZID=America/Chicago:20180517T180000
DTSTAMP:20260423T073859
CREATED:20170622T202909Z
LAST-MODIFIED:20170622T202909Z
UID:3192-1526572800-1526580000@lincolneducationassociation.org
SUMMARY:FR Appreciation & LEA Recognition
DESCRIPTION:
URL:https://lincolneducationassociation.org/event/fr-appreciation-lea-recognition/
LOCATION:TBD
END:VEVENT
BEGIN:VEVENT
DTSTART;TZID=America/Chicago:20180510T170000
DTEND;TZID=America/Chicago:20180510T200000
DTSTAMP:20260423T073859
CREATED:20170622T202828Z
LAST-MODIFIED:20170622T202828Z
UID:3190-1525971600-1525982400@lincolneducationassociation.org
SUMMARY:Retirement Dinner
DESCRIPTION:
URL:https://lincolneducationassociation.org/event/retirement-dinner-2/
LOCATION:TBD
END:VEVENT
BEGIN:VEVENT
DTSTART;TZID=America/Chicago:20180507T163000
DTEND;TZID=America/Chicago:20180507T183000
DTSTAMP:20260423T073859
CREATED:20170622T204947Z
LAST-MODIFIED:20170622T204947Z
UID:3222-1525710600-1525717800@lincolneducationassociation.org
SUMMARY:LEA Board
DESCRIPTION:
URL:https://lincolneducationassociation.org/event/lea-board-34/
LOCATION:LEA
END:VEVENT
BEGIN:VEVENT
DTSTART;TZID=America/Chicago:20180419T161500
DTEND;TZID=America/Chicago:20180419T183000
DTSTAMP:20260423T073859
CREATED:20170622T202742Z
LAST-MODIFIED:20170622T202742Z
UID:3188-1524154500-1524162600@lincolneducationassociation.org
SUMMARY:FR Council
DESCRIPTION:
URL:https://lincolneducationassociation.org/event/fr-council-17/
LOCATION:BRYAN COMMUNITY gymnasium
END:VEVENT
BEGIN:VEVENT
DTSTART;TZID=America/Chicago:20180418T173000
DTEND;TZID=America/Chicago:20180418T200000
DTSTAMP:20260423T073859
CREATED:20170920T165833Z
LAST-MODIFIED:20170920T165833Z
UID:3354-1524072600-1524081600@lincolneducationassociation.org
SUMMARY:NSEA Capitol District - Delegate Assembly Pre-Caucus
DESCRIPTION:
URL:https://lincolneducationassociation.org/event/nsea-capitol-district-delegate-assembly-pre-caucus/
END:VEVENT
BEGIN:VEVENT
DTSTART;TZID=America/Chicago:20180416T163000
DTEND;TZID=America/Chicago:20180416T183000
DTSTAMP:20260423T073859
CREATED:20170622T204911Z
LAST-MODIFIED:20170622T204911Z
UID:3220-1523896200-1523903400@lincolneducationassociation.org
SUMMARY:LEA Board
DESCRIPTION:
URL:https://lincolneducationassociation.org/event/lea-board-33/
LOCATION:LEA
END:VEVENT
BEGIN:VEVENT
DTSTART;TZID=America/Chicago:20180411T161500
DTEND;TZID=America/Chicago:20180411T180000
DTSTAMP:20260423T073859
CREATED:20180117T195822Z
LAST-MODIFIED:20180117T195822Z
UID:3519-1523463300-1523469600@lincolneducationassociation.org
SUMMARY:Student Loan Forgiveness
DESCRIPTION:
URL:https://lincolneducationassociation.org/event/student-loan-forgiveness-2/
LOCATION:district office room 101
END:VEVENT
BEGIN:VEVENT
DTSTART;TZID=America/Chicago:20180328T161500
DTEND;TZID=America/Chicago:20180328T180000
DTSTAMP:20260423T073859
CREATED:20180322T192523Z
LAST-MODIFIED:20180322T192523Z
UID:3613-1522253700-1522260000@lincolneducationassociation.org
SUMMARY:Stop The Bleed
DESCRIPTION:
URL:https://lincolneducationassociation.org/event/stop-the-bleed/
LOCATION:LEA
END:VEVENT
BEGIN:VEVENT
DTSTART;TZID=America/Chicago:20180322T161500
DTEND;TZID=America/Chicago:20180322T183000
DTSTAMP:20260423T073859
CREATED:20170622T202709Z
LAST-MODIFIED:20170622T202709Z
UID:3186-1521735300-1521743400@lincolneducationassociation.org
SUMMARY:FR Council
DESCRIPTION:
URL:https://lincolneducationassociation.org/event/fr-council-16/
LOCATION:BRYAN COMMUNITY gymnasium
END:VEVENT
BEGIN:VEVENT
DTSTART;TZID=America/Chicago:20180321T180000
DTEND;TZID=America/Chicago:20180321T200000
DTSTAMP:20260423T073859
CREATED:20170920T165708Z
LAST-MODIFIED:20170920T165708Z
UID:3352-1521655200-1521662400@lincolneducationassociation.org
SUMMARY:NSEA Capitol District
DESCRIPTION:
URL:https://lincolneducationassociation.org/event/nsea-capitol-district-3/
LOCATION:NSEA
END:VEVENT
BEGIN:VEVENT
DTSTART;TZID=America/Chicago:20180319T163000
DTEND;TZID=America/Chicago:20180319T183000
DTSTAMP:20260423T073859
CREATED:20170622T204838Z
LAST-MODIFIED:20170622T204838Z
UID:3218-1521477000-1521484200@lincolneducationassociation.org
SUMMARY:LEA Board
DESCRIPTION:
URL:https://lincolneducationassociation.org/event/lea-board-32/
LOCATION:LEA
END:VEVENT
BEGIN:VEVENT
DTSTART;TZID=America/Chicago:20180307T161500
DTEND;TZID=America/Chicago:20180307T180000
DTSTAMP:20260423T073859
CREATED:20180117T195647Z
LAST-MODIFIED:20180117T195647Z
UID:3517-1520439300-1520445600@lincolneducationassociation.org
SUMMARY:Student Loan Forgiveness
DESCRIPTION:
URL:https://lincolneducationassociation.org/event/student-loan-forgiveness/
LOCATION:LEA
END:VEVENT
BEGIN:VEVENT
DTSTART;TZID=America/Chicago:20180305T163000
DTEND;TZID=America/Chicago:20180305T183000
DTSTAMP:20260423T073859
CREATED:20170622T204533Z
LAST-MODIFIED:20170622T204533Z
UID:3216-1520267400-1520274600@lincolneducationassociation.org
SUMMARY:LEA Board
DESCRIPTION:
URL:https://lincolneducationassociation.org/event/lea-board-31/
LOCATION:LEA
END:VEVENT
BEGIN:VEVENT
DTSTART;TZID=America/Chicago:20180303T100000
DTEND;TZID=America/Chicago:20180303T110000
DTSTAMP:20260423T073859
CREATED:20180117T195535Z
LAST-MODIFIED:20180117T195535Z
UID:3515-1520071200-1520074800@lincolneducationassociation.org
SUMMARY:Retirement Workshop (presented by Horace Mann)
DESCRIPTION:
URL:https://lincolneducationassociation.org/event/retirement-workshop-presented-horace-mann/
LOCATION:LEA
END:VEVENT
BEGIN:VEVENT
DTSTART;TZID=America/Chicago:20180220T161500
DTEND;TZID=America/Chicago:20180220T183000
DTSTAMP:20260423T073859
CREATED:20180117T195340Z
LAST-MODIFIED:20180117T195340Z
UID:3513-1519143300-1519151400@lincolneducationassociation.org
SUMMARY:Retirement Workshop (Roger Rea)
DESCRIPTION:
URL:https://lincolneducationassociation.org/event/retirement-workshop-roger-rea/
LOCATION:TBA
END:VEVENT
BEGIN:VEVENT
DTSTART;TZID=America/Chicago:20180219T163000
DTEND;TZID=America/Chicago:20180219T183000
DTSTAMP:20260423T073859
CREATED:20170622T204451Z
LAST-MODIFIED:20170622T204451Z
UID:3214-1519057800-1519065000@lincolneducationassociation.org
SUMMARY:LEA Board
DESCRIPTION:
URL:https://lincolneducationassociation.org/event/lea-board-30/
LOCATION:LEA
END:VEVENT
BEGIN:VEVENT
DTSTART;TZID=America/Chicago:20180215T161500
DTEND;TZID=America/Chicago:20180215T183000
DTSTAMP:20260423T073859
CREATED:20170622T202557Z
LAST-MODIFIED:20170622T202557Z
UID:3184-1518711300-1518719400@lincolneducationassociation.org
SUMMARY:FR Council
DESCRIPTION:
URL:https://lincolneducationassociation.org/event/fr-council-15/
LOCATION:BRYAN COMMUNITY gymnasium
END:VEVENT
BEGIN:VEVENT
DTSTART;TZID=America/Chicago:20180208T161500
DTEND;TZID=America/Chicago:20180208T183000
DTSTAMP:20260423T073859
CREATED:20180117T194801Z
LAST-MODIFIED:20180117T194801Z
UID:3511-1518106500-1518114600@lincolneducationassociation.org
SUMMARY:ECLL Meeting
DESCRIPTION:
URL:https://lincolneducationassociation.org/event/ecll-meeting/
LOCATION:LEA
END:VEVENT
BEGIN:VEVENT
DTSTART;TZID=America/Chicago:20180205T163000
DTEND;TZID=America/Chicago:20180205T180000
DTSTAMP:20260423T073859
CREATED:20170622T204419Z
LAST-MODIFIED:20170622T204419Z
UID:3212-1517848200-1517853600@lincolneducationassociation.org
SUMMARY:LEA Board
DESCRIPTION:
URL:https://lincolneducationassociation.org/event/lea-board-29/
LOCATION:LEA
END:VEVENT
BEGIN:VEVENT
DTSTART;TZID=America/Chicago:20180127T080000
DTEND;TZID=America/Chicago:20180127T170000
DTSTAMP:20260423T073859
CREATED:20170919T204337Z
LAST-MODIFIED:20170919T204337Z
UID:3341-1517040000-1517072400@lincolneducationassociation.org
SUMMARY:NSEA Board of Directors
DESCRIPTION:
URL:https://lincolneducationassociation.org/event/nsea-board-directors-3/
LOCATION:NSEA
END:VEVENT
BEGIN:VEVENT
DTSTART;TZID=America/Chicago:20180122T163000
DTEND;TZID=America/Chicago:20180122T183000
DTSTAMP:20260423T073859
CREATED:20170622T204326Z
LAST-MODIFIED:20170622T204326Z
UID:3210-1516638600-1516645800@lincolneducationassociation.org
SUMMARY:LEA Board
DESCRIPTION:
URL:https://lincolneducationassociation.org/event/lea-board-28/
LOCATION:LEA
END:VEVENT
BEGIN:VEVENT
DTSTART;TZID=America/Chicago:20180118T161500
DTEND;TZID=America/Chicago:20180118T183000
DTSTAMP:20260423T073859
CREATED:20170622T202520Z
LAST-MODIFIED:20170622T202520Z
UID:3182-1516292100-1516300200@lincolneducationassociation.org
SUMMARY:FR Council
DESCRIPTION:
URL:https://lincolneducationassociation.org/event/fr-council-14/
LOCATION:BRYAN COMMUNITY gymnasium
END:VEVENT
BEGIN:VEVENT
DTSTART;TZID=America/Chicago:20171221T161500
DTEND;TZID=America/Chicago:20171221T183000
DTSTAMP:20260423T073859
CREATED:20170622T202442Z
LAST-MODIFIED:20170622T202442Z
UID:3180-1513872900-1513881000@lincolneducationassociation.org
SUMMARY:FR Council
DESCRIPTION:
URL:https://lincolneducationassociation.org/event/fr-council-13/
LOCATION:BRYAN COMMUNITY gymnasium
END:VEVENT
END:VCALENDAR