BEGIN:VCALENDAR
VERSION:2.0
PRODID:-//Lincoln Education Association - ECPv6.15.20//NONSGML v1.0//EN
CALSCALE:GREGORIAN
METHOD:PUBLISH
X-WR-CALNAME:Lincoln Education Association
X-ORIGINAL-URL:https://lincolneducationassociation.org
X-WR-CALDESC:Events for Lincoln Education Association
REFRESH-INTERVAL;VALUE=DURATION:PT1H
X-Robots-Tag:noindex
X-PUBLISHED-TTL:PT1H
BEGIN:VTIMEZONE
TZID:America/Chicago
BEGIN:DAYLIGHT
TZOFFSETFROM:-0600
TZOFFSETTO:-0500
TZNAME:CDT
DTSTART:20170312T080000
END:DAYLIGHT
BEGIN:STANDARD
TZOFFSETFROM:-0500
TZOFFSETTO:-0600
TZNAME:CST
DTSTART:20171105T070000
END:STANDARD
BEGIN:DAYLIGHT
TZOFFSETFROM:-0600
TZOFFSETTO:-0500
TZNAME:CDT
DTSTART:20180311T080000
END:DAYLIGHT
BEGIN:STANDARD
TZOFFSETFROM:-0500
TZOFFSETTO:-0600
TZNAME:CST
DTSTART:20181104T070000
END:STANDARD
BEGIN:DAYLIGHT
TZOFFSETFROM:-0600
TZOFFSETTO:-0500
TZNAME:CDT
DTSTART:20190310T080000
END:DAYLIGHT
BEGIN:STANDARD
TZOFFSETFROM:-0500
TZOFFSETTO:-0600
TZNAME:CST
DTSTART:20191103T070000
END:STANDARD
END:VTIMEZONE
BEGIN:VEVENT
DTSTART;TZID=America/Chicago:20181217T163000
DTEND;TZID=America/Chicago:20181217T180000
DTSTAMP:20260421T082311
CREATED:20180906T193358Z
LAST-MODIFIED:20180906T193358Z
UID:3790-1545064200-1545069600@lincolneducationassociation.org
SUMMARY:LEA Board
DESCRIPTION:
URL:https://lincolneducationassociation.org/event/lea-board-39/
LOCATION:LEA
END:VEVENT
BEGIN:VEVENT
DTSTART;TZID=America/Chicago:20181212T160000
DTEND;TZID=America/Chicago:20181212T170000
DTSTAMP:20260421T082311
CREATED:20180906T203148Z
LAST-MODIFIED:20180906T203148Z
UID:3835-1544630400-1544634000@lincolneducationassociation.org
SUMMARY:Extra Standard
DESCRIPTION:if needed
URL:https://lincolneducationassociation.org/event/extra-standard-6/
LOCATION:LEA
END:VEVENT
BEGIN:VEVENT
DTSTART;TZID=America/Chicago:20181205T160000
DTEND;TZID=America/Chicago:20181205T170000
DTSTAMP:20260421T082311
CREATED:20180906T203055Z
LAST-MODIFIED:20180906T203055Z
UID:3833-1544025600-1544029200@lincolneducationassociation.org
SUMMARY:Extra Standard
DESCRIPTION:Volleyball 4:00 p.m. \nFootball 4:30 p.m.
URL:https://lincolneducationassociation.org/event/extra-standard-5/
LOCATION:LEA
END:VEVENT
BEGIN:VEVENT
DTSTART;TZID=America/Chicago:20181203T163000
DTEND;TZID=America/Chicago:20181203T180000
DTSTAMP:20260421T082311
CREATED:20180906T193127Z
LAST-MODIFIED:20180906T193127Z
UID:3788-1543854600-1543860000@lincolneducationassociation.org
SUMMARY:LEA Board
DESCRIPTION:
URL:https://lincolneducationassociation.org/event/lea-board-38/
LOCATION:LEA
END:VEVENT
BEGIN:VEVENT
DTSTART;TZID=America/Chicago:20181119T163000
DTEND;TZID=America/Chicago:20181119T183000
DTSTAMP:20260421T082311
CREATED:20180906T193034Z
LAST-MODIFIED:20180906T193034Z
UID:3786-1542645000-1542652200@lincolneducationassociation.org
SUMMARY:LEA Board
DESCRIPTION:
URL:https://lincolneducationassociation.org/event/lea-board-37/
END:VEVENT
BEGIN:VEVENT
DTSTART;TZID=America/Chicago:20181115T161500
DTEND;TZID=America/Chicago:20181115T180000
DTSTAMP:20260421T082311
CREATED:20180906T185105Z
LAST-MODIFIED:20180906T185105Z
UID:3766-1542298500-1542304800@lincolneducationassociation.org
SUMMARY:FR Council
DESCRIPTION:
URL:https://lincolneducationassociation.org/event/fr-council-20/
LOCATION:BRYAN COMMUNITY gymnasium
END:VEVENT
BEGIN:VEVENT
DTSTART;TZID=America/Chicago:20181108T161500
DTEND;TZID=America/Chicago:20181108T183000
DTSTAMP:20260421T082311
CREATED:20181106T163924Z
LAST-MODIFIED:20181106T163924Z
UID:3912-1541693700-1541701800@lincolneducationassociation.org
SUMMARY:Retirement Seminar
DESCRIPTION:
URL:https://lincolneducationassociation.org/event/retirement-seminar/
LOCATION:Culler Middle School
END:VEVENT
BEGIN:VEVENT
DTSTART;TZID=America/Chicago:20181108T093000
DTEND;TZID=America/Chicago:20181108T110000
DTSTAMP:20260421T082311
CREATED:20180906T202015Z
LAST-MODIFIED:20180906T202015Z
UID:3814-1541669400-1541674800@lincolneducationassociation.org
SUMMARY:LEA-R Board Meeting
DESCRIPTION:
URL:https://lincolneducationassociation.org/event/lea-r-board-meeting-3/
LOCATION:LEA
END:VEVENT
BEGIN:VEVENT
DTSTART;TZID=America/Chicago:20181107T160000
DTEND;TZID=America/Chicago:20181107T170000
DTSTAMP:20260421T082311
CREATED:20180906T203010Z
LAST-MODIFIED:20180906T203010Z
UID:3831-1541606400-1541610000@lincolneducationassociation.org
SUMMARY:Extra Standard
DESCRIPTION:Cross Country 4:00 p.m. \nEducator’s Rising 4:30 p.m.
URL:https://lincolneducationassociation.org/event/extra-standard-4/
LOCATION:LEA
END:VEVENT
BEGIN:VEVENT
DTSTART;TZID=America/Chicago:20181105T163000
DTEND;TZID=America/Chicago:20181105T180000
DTSTAMP:20260421T082311
CREATED:20180906T192704Z
LAST-MODIFIED:20180906T193421Z
UID:3784-1541435400-1541440800@lincolneducationassociation.org
SUMMARY:LEA Board
DESCRIPTION:
URL:https://lincolneducationassociation.org/event/lea-board-meeting-9/
LOCATION:LEA
END:VEVENT
BEGIN:VEVENT
DTSTART;TZID=America/Chicago:20181018T161500
DTEND;TZID=America/Chicago:20181018T180000
DTSTAMP:20260421T082311
CREATED:20180906T184912Z
LAST-MODIFIED:20180906T184912Z
UID:3764-1539879300-1539885600@lincolneducationassociation.org
SUMMARY:FR Council
DESCRIPTION:
URL:https://lincolneducationassociation.org/event/fr-council-19/
LOCATION:BRYAN COMMUNITY gymnasium
END:VEVENT
BEGIN:VEVENT
DTSTART;TZID=America/Chicago:20181017T160000
DTEND;TZID=America/Chicago:20181017T170000
DTSTAMP:20260421T082311
CREATED:20180906T202818Z
LAST-MODIFIED:20180906T202818Z
UID:3829-1539792000-1539795600@lincolneducationassociation.org
SUMMARY:Extra Standard
DESCRIPTION:Soccer (boys and girls) 4:00 p.m. \nStudent Council 4:30 p.m.
URL:https://lincolneducationassociation.org/event/extra-standard-3/
LOCATION:LEA
END:VEVENT
BEGIN:VEVENT
DTSTART;TZID=America/Chicago:20181011T093000
DTEND;TZID=America/Chicago:20181011T110000
DTSTAMP:20260421T082311
CREATED:20180906T201910Z
LAST-MODIFIED:20180906T201910Z
UID:3812-1539250200-1539255600@lincolneducationassociation.org
SUMMARY:LEA-R Board Meeting
DESCRIPTION:
URL:https://lincolneducationassociation.org/event/lea-r-board-meeting-2/
LOCATION:LEA
END:VEVENT
BEGIN:VEVENT
DTSTART;TZID=America/Chicago:20181010T160000
DTEND;TZID=America/Chicago:20181010T183000
DTSTAMP:20260421T082311
CREATED:20180906T202440Z
LAST-MODIFIED:20181005T211746Z
UID:3824-1539187200-1539196200@lincolneducationassociation.org
SUMMARY:Horace Mann Workshop
DESCRIPTION:
URL:https://lincolneducationassociation.org/event/horace-mann-workshop-2/
LOCATION:LEA Basement
END:VEVENT
BEGIN:VEVENT
DTSTART;TZID=America/Chicago:20181003T160000
DTEND;TZID=America/Chicago:20181003T170000
DTSTAMP:20260421T082311
CREATED:20180906T202554Z
LAST-MODIFIED:20180906T202554Z
UID:3826-1538582400-1538586000@lincolneducationassociation.org
SUMMARY:Extra Standard
DESCRIPTION:Track/Pole Vault (boys and girls) 4:00 p.m. \nVocal Music/ Show Choir 4:30 p.m.
URL:https://lincolneducationassociation.org/event/extra-standard-2/
LOCATION:LEA
END:VEVENT
BEGIN:VEVENT
DTSTART;TZID=America/Chicago:20181001T163000
DTEND;TZID=America/Chicago:20181001T183000
DTSTAMP:20260421T082311
CREATED:20180906T192054Z
LAST-MODIFIED:20180906T192054Z
UID:3782-1538411400-1538418600@lincolneducationassociation.org
SUMMARY:LEA Board
DESCRIPTION:
URL:https://lincolneducationassociation.org/event/lea-board-36/
LOCATION:LEA
END:VEVENT
BEGIN:VEVENT
DTSTART;TZID=America/Chicago:20180920T161500
DTEND;TZID=America/Chicago:20180920T180000
DTSTAMP:20260421T082311
CREATED:20180906T183934Z
LAST-MODIFIED:20180906T183934Z
UID:3753-1537460100-1537466400@lincolneducationassociation.org
SUMMARY:FR Council
DESCRIPTION:
URL:https://lincolneducationassociation.org/event/fr-council-18/
LOCATION:BRYAN COMMUNITY gymnasium
END:VEVENT
BEGIN:VEVENT
DTSTART;TZID=America/Chicago:20180919T160000
DTEND;TZID=America/Chicago:20180919T180000
DTSTAMP:20260421T082311
CREATED:20180906T184217Z
LAST-MODIFIED:20180906T184217Z
UID:3757-1537372800-1537380000@lincolneducationassociation.org
SUMMARY:Horace Mann Workshop
DESCRIPTION:
URL:https://lincolneducationassociation.org/event/horace-mann-workshop/
LOCATION:LEA Basement
END:VEVENT
BEGIN:VEVENT
DTSTART;TZID=America/Chicago:20180919T160000
DTEND;TZID=America/Chicago:20180919T170000
DTSTAMP:20260421T082311
CREATED:20180906T184254Z
LAST-MODIFIED:20180906T202708Z
UID:3760-1537372800-1537376400@lincolneducationassociation.org
SUMMARY:Extra Standard
DESCRIPTION:Swimming- 4:00 p.m. \nOutdoor Education 4:30 p.m.
URL:https://lincolneducationassociation.org/event/extra-standard/
LOCATION:LEA
END:VEVENT
BEGIN:VEVENT
DTSTART;TZID=America/Chicago:20180917T163000
DTEND;TZID=America/Chicago:20180917T183000
DTSTAMP:20260421T082311
CREATED:20180906T184059Z
LAST-MODIFIED:20180906T193509Z
UID:3755-1537201800-1537209000@lincolneducationassociation.org
SUMMARY:LEA Board
DESCRIPTION:
URL:https://lincolneducationassociation.org/event/lea-board-meeting-8/
LOCATION:LEA
END:VEVENT
BEGIN:VEVENT
DTSTART;TZID=America/Chicago:20180913T093000
DTEND;TZID=America/Chicago:20180913T110000
DTSTAMP:20260421T082311
CREATED:20180906T184337Z
LAST-MODIFIED:20180906T184337Z
UID:3762-1536831000-1536836400@lincolneducationassociation.org
SUMMARY:LEA-R Board Meeting
DESCRIPTION:
URL:https://lincolneducationassociation.org/event/lea-r-board-meeting/
LOCATION:LEA
END:VEVENT
BEGIN:VEVENT
DTSTART;TZID=America/Chicago:20180731T160000
DTEND;TZID=America/Chicago:20180731T180000
DTSTAMP:20260421T082311
CREATED:20180718T151647Z
LAST-MODIFIED:20180718T151647Z
UID:3718-1533052800-1533060000@lincolneducationassociation.org
SUMMARY:FR Training #3
DESCRIPTION:
URL:https://lincolneducationassociation.org/event/fr-training-3/
LOCATION:LEA
END:VEVENT
BEGIN:VEVENT
DTSTART;TZID=America/Chicago:20180726T140000
DTEND;TZID=America/Chicago:20180726T160000
DTSTAMP:20260421T082311
CREATED:20180718T151618Z
LAST-MODIFIED:20180718T151618Z
UID:3716-1532613600-1532620800@lincolneducationassociation.org
SUMMARY:FR Training #2
DESCRIPTION:
URL:https://lincolneducationassociation.org/event/fr-training-2-2/
LOCATION:LEA
END:VEVENT
BEGIN:VEVENT
DTSTART;TZID=America/Chicago:20180724T130000
DTEND;TZID=America/Chicago:20180724T150000
DTSTAMP:20260421T082311
CREATED:20180718T151543Z
LAST-MODIFIED:20180718T151543Z
UID:3713-1532437200-1532444400@lincolneducationassociation.org
SUMMARY:FR Training #1
DESCRIPTION:
URL:https://lincolneducationassociation.org/event/fr-training-1/
LOCATION:Clifton Learning Center
END:VEVENT
BEGIN:VEVENT
DTSTART;TZID=America/Chicago:20180723T100000
DTEND;TZID=America/Chicago:20180723T160000
DTSTAMP:20260421T082311
CREATED:20170920T165908Z
LAST-MODIFIED:20170920T165908Z
UID:3356-1532340000-1532361600@lincolneducationassociation.org
SUMMARY:NSEA Capitol District
DESCRIPTION:
URL:https://lincolneducationassociation.org/event/nsea-capitol-district-4/
LOCATION:LEA
END:VEVENT
BEGIN:VEVENT
DTSTART;VALUE=DATE:20180531
DTEND;VALUE=DATE:20180601
DTSTAMP:20260421T082311
CREATED:20180523T163515Z
LAST-MODIFIED:20180523T163557Z
UID:3671-1527724800-1527811199@lincolneducationassociation.org
SUMMARY:Give to Lincoln Day
DESCRIPTION:Give To Lincoln Day is your chance to make a real impact on Lincoln’s quality of life. We encourage everyone to join us for a record-setting day of giving on May 31st from 12:00am to 11:59 pm. Together\, we have the power to support Lincoln’s nonprofit organizations and improve lives. Every donation you make on May 31st helps your favorite charities even more because they will also receive a proportional share of our $400\,000 challenge match fund. \nOur website giving page link: https://givetolincoln.com/nonprofits/harvest-of-books
URL:https://lincolneducationassociation.org/event/give-to-lincoln-day/
END:VEVENT
BEGIN:VEVENT
DTSTART;TZID=America/Chicago:20180521T163000
DTEND;TZID=America/Chicago:20180521T183000
DTSTAMP:20260421T082311
CREATED:20170622T205244Z
LAST-MODIFIED:20170622T205244Z
UID:3224-1526920200-1526927400@lincolneducationassociation.org
SUMMARY:LEA Board
DESCRIPTION:
URL:https://lincolneducationassociation.org/event/lea-board-35/
LOCATION:LEA
END:VEVENT
BEGIN:VEVENT
DTSTART;TZID=America/Chicago:20180517T160000
DTEND;TZID=America/Chicago:20180517T180000
DTSTAMP:20260421T082311
CREATED:20170622T202909Z
LAST-MODIFIED:20170622T202909Z
UID:3192-1526572800-1526580000@lincolneducationassociation.org
SUMMARY:FR Appreciation & LEA Recognition
DESCRIPTION:
URL:https://lincolneducationassociation.org/event/fr-appreciation-lea-recognition/
LOCATION:TBD
END:VEVENT
BEGIN:VEVENT
DTSTART;TZID=America/Chicago:20180510T170000
DTEND;TZID=America/Chicago:20180510T200000
DTSTAMP:20260421T082311
CREATED:20170622T202828Z
LAST-MODIFIED:20170622T202828Z
UID:3190-1525971600-1525982400@lincolneducationassociation.org
SUMMARY:Retirement Dinner
DESCRIPTION:
URL:https://lincolneducationassociation.org/event/retirement-dinner-2/
LOCATION:TBD
END:VEVENT
BEGIN:VEVENT
DTSTART;TZID=America/Chicago:20180507T163000
DTEND;TZID=America/Chicago:20180507T183000
DTSTAMP:20260421T082311
CREATED:20170622T204947Z
LAST-MODIFIED:20170622T204947Z
UID:3222-1525710600-1525717800@lincolneducationassociation.org
SUMMARY:LEA Board
DESCRIPTION:
URL:https://lincolneducationassociation.org/event/lea-board-34/
LOCATION:LEA
END:VEVENT
END:VCALENDAR